BEGIN:VCALENDAR
VERSION:2.0
PRODID:-//Something Extra - ECPv6.15.20//NONSGML v1.0//EN
CALSCALE:GREGORIAN
METHOD:PUBLISH
X-WR-CALNAME:Something Extra
X-ORIGINAL-URL:https://somethingextra.org
X-WR-CALDESC:Events for Something Extra
REFRESH-INTERVAL;VALUE=DURATION:PT1H
X-Robots-Tag:noindex
X-PUBLISHED-TTL:PT1H
BEGIN:VTIMEZONE
TZID:America/Chicago
BEGIN:DAYLIGHT
TZOFFSETFROM:-0600
TZOFFSETTO:-0500
TZNAME:CDT
DTSTART:20250309T080000
END:DAYLIGHT
BEGIN:STANDARD
TZOFFSETFROM:-0500
TZOFFSETTO:-0600
TZNAME:CST
DTSTART:20251102T070000
END:STANDARD
BEGIN:DAYLIGHT
TZOFFSETFROM:-0600
TZOFFSETTO:-0500
TZNAME:CDT
DTSTART:20260308T080000
END:DAYLIGHT
BEGIN:STANDARD
TZOFFSETFROM:-0500
TZOFFSETTO:-0600
TZNAME:CST
DTSTART:20261101T070000
END:STANDARD
BEGIN:DAYLIGHT
TZOFFSETFROM:-0600
TZOFFSETTO:-0500
TZNAME:CDT
DTSTART:20270314T080000
END:DAYLIGHT
BEGIN:STANDARD
TZOFFSETFROM:-0500
TZOFFSETTO:-0600
TZNAME:CST
DTSTART:20271107T070000
END:STANDARD
END:VTIMEZONE
BEGIN:VEVENT
DTSTART;TZID=America/Chicago:20260324T160000
DTEND;TZID=America/Chicago:20260324T170000
DTSTAMP:20260420T102730
CREATED:20260324T165000Z
LAST-MODIFIED:20260324T165724Z
UID:3398-1774368000-1774371600@somethingextra.org
SUMMARY:Time 2 Groove
DESCRIPTION:For details and to register go to https://dsamt.ticketspice.com/time2groove
URL:https://somethingextra.org/event/time-2-groove/
END:VEVENT
BEGIN:VEVENT
DTSTART;TZID=America/Chicago:20260322T110000
DTEND;TZID=America/Chicago:20260322T140000
DTSTAMP:20260420T102730
CREATED:20260311T151931Z
LAST-MODIFIED:20260311T151931Z
UID:3370-1774177200-1774188000@somethingextra.org
SUMMARY:Shine On 3.21 Celebration with Montgomery County
DESCRIPTION:For details and to register go to https://dsamt.ticketspice.com/montgomery-county
URL:https://somethingextra.org/event/shine-on-3-21-celebration-with-montgomery-county/
END:VEVENT
BEGIN:VEVENT
DTSTART;TZID=America/Chicago:20260321T170000
DTEND;TZID=America/Chicago:20260321T190000
DTSTAMP:20260420T102730
CREATED:20260317T141605Z
LAST-MODIFIED:20260317T141605Z
UID:3379-1774112400-1774119600@somethingextra.org
SUMMARY:MJPD Tour & Light Up the Clock with Wilson County
DESCRIPTION:For details and to register go to https://dsamt.ticketspice.com/wilson-county
URL:https://somethingextra.org/event/mjpd-tour-light-up-the-clock-with-wilson-county/
END:VEVENT
BEGIN:VEVENT
DTSTART;TZID=America/Chicago:20260321T120000
DTEND;TZID=America/Chicago:20260321T140000
DTSTAMP:20260420T102730
CREATED:20260218T152425Z
LAST-MODIFIED:20260218T152425Z
UID:3294-1774094400-1774101600@somethingextra.org
SUMMARY:3*21 Celebration
DESCRIPTION:For details and to register go to https://dsamt.ticketspice.com/321-celebration
URL:https://somethingextra.org/event/321-celebration/
END:VEVENT
BEGIN:VEVENT
DTSTART;TZID=America/Chicago:20260320T090000
DTEND;TZID=America/Chicago:20260320T110000
DTSTAMP:20260420T102730
CREATED:20260120T051339Z
LAST-MODIFIED:20260120T051339Z
UID:3230-1773997200-1774004400@somethingextra.org
SUMMARY:Mom's Coffee with Williamson/Maury County
DESCRIPTION:For details and to register go to https://dsamt.ticketspice.com/williamson-county
URL:https://somethingextra.org/event/moms-coffee-with-williamson-maury-county-2/
END:VEVENT
END:VCALENDAR